BEGIN:VCALENDAR
VERSION:2.0
PRODID:-//Aleph Akademie - ECPv6.15.20//NONSGML v1.0//EN
CALSCALE:GREGORIAN
METHOD:PUBLISH
X-WR-CALNAME:Aleph Akademie
X-ORIGINAL-URL:https://www.aleph-akademie.de
X-WR-CALDESC:Veranstaltungen für Aleph Akademie
REFRESH-INTERVAL;VALUE=DURATION:PT1H
X-Robots-Tag:noindex
X-PUBLISHED-TTL:PT1H
BEGIN:VTIMEZONE
TZID:Europe/Berlin
BEGIN:DAYLIGHT
TZOFFSETFROM:+0100
TZOFFSETTO:+0200
TZNAME:CEST
DTSTART:20240331T010000
END:DAYLIGHT
BEGIN:STANDARD
TZOFFSETFROM:+0200
TZOFFSETTO:+0100
TZNAME:CET
DTSTART:20241027T010000
END:STANDARD
BEGIN:DAYLIGHT
TZOFFSETFROM:+0100
TZOFFSETTO:+0200
TZNAME:CEST
DTSTART:20250330T010000
END:DAYLIGHT
BEGIN:STANDARD
TZOFFSETFROM:+0200
TZOFFSETTO:+0100
TZNAME:CET
DTSTART:20251026T010000
END:STANDARD
BEGIN:DAYLIGHT
TZOFFSETFROM:+0100
TZOFFSETTO:+0200
TZNAME:CEST
DTSTART:20260329T010000
END:DAYLIGHT
BEGIN:STANDARD
TZOFFSETFROM:+0200
TZOFFSETTO:+0100
TZNAME:CET
DTSTART:20261025T010000
END:STANDARD
BEGIN:DAYLIGHT
TZOFFSETFROM:+0100
TZOFFSETTO:+0200
TZNAME:CEST
DTSTART:20270328T010000
END:DAYLIGHT
BEGIN:STANDARD
TZOFFSETFROM:+0200
TZOFFSETTO:+0100
TZNAME:CET
DTSTART:20271031T010000
END:STANDARD
END:VTIMEZONE
BEGIN:VEVENT
DTSTART;TZID=Europe/Berlin:20260413T203000
DTEND;TZID=Europe/Berlin:20260413T213000
DTSTAMP:20260420T121117
CREATED:20250923T205312Z
LAST-MODIFIED:20260331T061739Z
UID:10011512-1776112200-1776115800@www.aleph-akademie.de
SUMMARY:Session mit Hubert Schlaucher
DESCRIPTION:
URL:https://www.aleph-akademie.de/event/session-mit-hubert-schlaucher/2026-04-13/
LOCATION:Zoom
ATTACH;FMTTYPE=image/png:https://www.aleph-akademie.de/wp-content/uploads/Foto-Hubert-300x365-1-e1597787547311.png
ORGANIZER;CN="*Hubert Schlaucher":MAILTO:schlaucher.hdz@gmail.com
END:VEVENT
BEGIN:VEVENT
DTSTART;TZID=Europe/Berlin:20260408T203000
DTEND;TZID=Europe/Berlin:20260408T213000
DTSTAMP:20260420T121117
CREATED:20250923T205312Z
LAST-MODIFIED:20260331T061739Z
UID:10011511-1775680200-1775683800@www.aleph-akademie.de
SUMMARY:Session mit Hubert Schlaucher
DESCRIPTION:
URL:https://www.aleph-akademie.de/event/session-mit-hubert-schlaucher/2026-04-08/
LOCATION:Zoom
ATTACH;FMTTYPE=image/png:https://www.aleph-akademie.de/wp-content/uploads/Foto-Hubert-300x365-1-e1597787547311.png
ORGANIZER;CN="*Hubert Schlaucher":MAILTO:schlaucher.hdz@gmail.com
END:VEVENT
BEGIN:VEVENT
DTSTART;TZID=Europe/Berlin:20260224T203000
DTEND;TZID=Europe/Berlin:20260224T213000
DTSTAMP:20260420T121117
CREATED:20250923T205312Z
LAST-MODIFIED:20260331T061739Z
UID:10011441-1771965000-1771968600@www.aleph-akademie.de
SUMMARY:Session mit Hubert Schlaucher
DESCRIPTION:
URL:https://www.aleph-akademie.de/event/session-mit-hubert-schlaucher/2026-02-24/
LOCATION:Zoom
ATTACH;FMTTYPE=image/png:https://www.aleph-akademie.de/wp-content/uploads/Foto-Hubert-300x365-1-e1597787547311.png
ORGANIZER;CN="*Hubert Schlaucher":MAILTO:schlaucher.hdz@gmail.com
END:VEVENT
BEGIN:VEVENT
DTSTART;TZID=Europe/Berlin:20260216T203000
DTEND;TZID=Europe/Berlin:20260216T213000
DTSTAMP:20260420T121117
CREATED:20250923T205312Z
LAST-MODIFIED:20260331T061739Z
UID:10011440-1771273800-1771277400@www.aleph-akademie.de
SUMMARY:Session mit Hubert Schlaucher
DESCRIPTION:
URL:https://www.aleph-akademie.de/event/session-mit-hubert-schlaucher/2026-02-16/
LOCATION:Zoom
ATTACH;FMTTYPE=image/png:https://www.aleph-akademie.de/wp-content/uploads/Foto-Hubert-300x365-1-e1597787547311.png
ORGANIZER;CN="*Hubert Schlaucher":MAILTO:schlaucher.hdz@gmail.com
END:VEVENT
BEGIN:VEVENT
DTSTART;TZID=Europe/Berlin:20260209T203000
DTEND;TZID=Europe/Berlin:20260209T213000
DTSTAMP:20260420T121117
CREATED:20250923T205312Z
LAST-MODIFIED:20260331T061739Z
UID:10011439-1770669000-1770672600@www.aleph-akademie.de
SUMMARY:Session mit Hubert Schlaucher
DESCRIPTION:
URL:https://www.aleph-akademie.de/event/session-mit-hubert-schlaucher/2026-02-09/
LOCATION:Zoom
ATTACH;FMTTYPE=image/png:https://www.aleph-akademie.de/wp-content/uploads/Foto-Hubert-300x365-1-e1597787547311.png
ORGANIZER;CN="*Hubert Schlaucher":MAILTO:schlaucher.hdz@gmail.com
END:VEVENT
BEGIN:VEVENT
DTSTART;TZID=Europe/Berlin:20260121T203000
DTEND;TZID=Europe/Berlin:20260121T213000
DTSTAMP:20260420T121117
CREATED:20250923T205312Z
LAST-MODIFIED:20260331T061739Z
UID:10011479-1769027400-1769031000@www.aleph-akademie.de
SUMMARY:Session mit Hubert Schlaucher
DESCRIPTION:
URL:https://www.aleph-akademie.de/event/session-mit-hubert-schlaucher/2026-01-21/
LOCATION:Zoom
ATTACH;FMTTYPE=image/png:https://www.aleph-akademie.de/wp-content/uploads/Foto-Hubert-300x365-1-e1597787547311.png
ORGANIZER;CN="*Hubert Schlaucher":MAILTO:schlaucher.hdz@gmail.com
END:VEVENT
BEGIN:VEVENT
DTSTART;TZID=Europe/Berlin:20251210T093000
DTEND;TZID=Europe/Berlin:20251210T103000
DTSTAMP:20260420T121117
CREATED:20251208T214718Z
LAST-MODIFIED:20251208T214718Z
UID:10011216-1765359000-1765362600@www.aleph-akademie.de
SUMMARY:Session mit Hubert Schlaucher
DESCRIPTION:
URL:https://www.aleph-akademie.de/event/session-mit-hubert-schlaucher-2/
LOCATION:Zoom
ORGANIZER;CN="*Hubert Schlaucher":MAILTO:schlaucher.hdz@gmail.com
END:VEVENT
BEGIN:VEVENT
DTSTART;TZID=Europe/Berlin:20251125T093000
DTEND;TZID=Europe/Berlin:20251125T103000
DTSTAMP:20260420T121117
CREATED:20251031T052427Z
LAST-MODIFIED:20251031T052427Z
UID:10011224-1764063000-1764066600@www.aleph-akademie.de
SUMMARY:Festival WarmUp mit Hubert Schlaucher
DESCRIPTION:
URL:https://www.aleph-akademie.de/event/festival-warmup-mit-hubert-schlaucher/
LOCATION:Zoom
ORGANIZER;CN="*Hubert Schlaucher":MAILTO:schlaucher.hdz@gmail.com
END:VEVENT
BEGIN:VEVENT
DTSTART;TZID=Europe/Berlin:20251108T203000
DTEND;TZID=Europe/Berlin:20251108T213000
DTSTAMP:20260420T121117
CREATED:20250923T205312Z
LAST-MODIFIED:20260331T061739Z
UID:10011393-1762633800-1762637400@www.aleph-akademie.de
SUMMARY:Session mit Hubert Schlaucher
DESCRIPTION:
URL:https://www.aleph-akademie.de/event/session-mit-hubert-schlaucher/2025-11-08/
LOCATION:Zoom
ATTACH;FMTTYPE=image/png:https://www.aleph-akademie.de/wp-content/uploads/Foto-Hubert-300x365-1-e1597787547311.png
ORGANIZER;CN="*Hubert Schlaucher":MAILTO:schlaucher.hdz@gmail.com
END:VEVENT
END:VCALENDAR