BEGIN:VCALENDAR
VERSION:2.0
PRODID:-//Aleph Akademie - ECPv6.15.20//NONSGML v1.0//EN
CALSCALE:GREGORIAN
METHOD:PUBLISH
X-WR-CALNAME:Aleph Akademie
X-ORIGINAL-URL:https://www.aleph-akademie.de
X-WR-CALDESC:Veranstaltungen für Aleph Akademie
REFRESH-INTERVAL;VALUE=DURATION:PT1H
X-Robots-Tag:noindex
X-PUBLISHED-TTL:PT1H
BEGIN:VTIMEZONE
TZID:Europe/Berlin
BEGIN:DAYLIGHT
TZOFFSETFROM:+0100
TZOFFSETTO:+0200
TZNAME:CEST
DTSTART:20250330T010000
END:DAYLIGHT
BEGIN:STANDARD
TZOFFSETFROM:+0200
TZOFFSETTO:+0100
TZNAME:CET
DTSTART:20251026T010000
END:STANDARD
BEGIN:DAYLIGHT
TZOFFSETFROM:+0100
TZOFFSETTO:+0200
TZNAME:CEST
DTSTART:20260329T010000
END:DAYLIGHT
BEGIN:STANDARD
TZOFFSETFROM:+0200
TZOFFSETTO:+0100
TZNAME:CET
DTSTART:20261025T010000
END:STANDARD
BEGIN:DAYLIGHT
TZOFFSETFROM:+0100
TZOFFSETTO:+0200
TZNAME:CEST
DTSTART:20270328T010000
END:DAYLIGHT
BEGIN:STANDARD
TZOFFSETFROM:+0200
TZOFFSETTO:+0100
TZNAME:CET
DTSTART:20271031T010000
END:STANDARD
END:VTIMEZONE
BEGIN:VEVENT
DTSTART;TZID=Europe/Berlin:20260406T081500
DTEND;TZID=Europe/Berlin:20260406T090000
DTSTAMP:20260420T161321
CREATED:20251031T113912Z
LAST-MODIFIED:20251031T114257Z
UID:10009571-1775463300-1775466000@www.aleph-akademie.de
SUMMARY:Lesen der Tageslektion
DESCRIPTION:
URL:https://www.aleph-akademie.de/event/lesen-der-tageslektion-2/2026-04-06/
LOCATION:Zoom
END:VEVENT
BEGIN:VEVENT
DTSTART;TZID=Europe/Berlin:20260405T081500
DTEND;TZID=Europe/Berlin:20260405T090000
DTSTAMP:20260420T161321
CREATED:20251031T113912Z
LAST-MODIFIED:20251031T114257Z
UID:10009570-1775376900-1775379600@www.aleph-akademie.de
SUMMARY:Lesen der Tageslektion
DESCRIPTION:
URL:https://www.aleph-akademie.de/event/lesen-der-tageslektion-2/2026-04-05/
LOCATION:Zoom
END:VEVENT
BEGIN:VEVENT
DTSTART;TZID=Europe/Berlin:20260404T081500
DTEND;TZID=Europe/Berlin:20260404T090000
DTSTAMP:20260420T161321
CREATED:20251031T113912Z
LAST-MODIFIED:20251031T114257Z
UID:10009569-1775290500-1775293200@www.aleph-akademie.de
SUMMARY:Lesen der Tageslektion
DESCRIPTION:
URL:https://www.aleph-akademie.de/event/lesen-der-tageslektion-2/2026-04-04/
LOCATION:Zoom
END:VEVENT
BEGIN:VEVENT
DTSTART;TZID=Europe/Berlin:20260403T203000
DTEND;TZID=Europe/Berlin:20260403T213000
DTSTAMP:20260420T161321
CREATED:20250924T095927Z
LAST-MODIFIED:20260331T060538Z
UID:10011495-1775248200-1775251800@www.aleph-akademie.de
SUMMARY:Session mit Kornilia Nikoleri
DESCRIPTION:
URL:https://www.aleph-akademie.de/event/session-mit-kornilia-nikoleri/2026-04-03/
LOCATION:Zoom
ATTACH;FMTTYPE=image/jpeg:https://www.aleph-akademie.de/wp-content/uploads/Kornilia.jpeg
ORGANIZER;CN="*Kornilia Nikoleri":MAILTO:kornilia1@hotmail.com
END:VEVENT
BEGIN:VEVENT
DTSTART;TZID=Europe/Berlin:20260403T093000
DTEND;TZID=Europe/Berlin:20260403T103000
DTSTAMP:20260420T161321
CREATED:20250924T100319Z
LAST-MODIFIED:20260331T060348Z
UID:10011492-1775208600-1775212200@www.aleph-akademie.de
SUMMARY:Session mit Dorothea Seymer
DESCRIPTION:
URL:https://www.aleph-akademie.de/event/session-mit-dorothea-seymer/2026-04-03/
LOCATION:Zoom
ATTACH;FMTTYPE=image/jpeg:https://www.aleph-akademie.de/wp-content/uploads/doro2.jpeg
ORGANIZER;CN="*Dorothea Seymer":MAILTO:dorothea.joy@gmail.com
END:VEVENT
BEGIN:VEVENT
DTSTART;TZID=Europe/Berlin:20260403T081500
DTEND;TZID=Europe/Berlin:20260403T090000
DTSTAMP:20260420T161321
CREATED:20251031T113912Z
LAST-MODIFIED:20251031T114257Z
UID:10009568-1775204100-1775206800@www.aleph-akademie.de
SUMMARY:Lesen der Tageslektion
DESCRIPTION:
URL:https://www.aleph-akademie.de/event/lesen-der-tageslektion-2/2026-04-03/
LOCATION:Zoom
END:VEVENT
BEGIN:VEVENT
DTSTART;TZID=Europe/Berlin:20260402T203000
DTEND;TZID=Europe/Berlin:20260402T213000
DTSTAMP:20260420T161321
CREATED:20250924T100542Z
LAST-MODIFIED:20260331T060215Z
UID:10011491-1775161800-1775165400@www.aleph-akademie.de
SUMMARY:Session mit Constantin Cranz
DESCRIPTION:
URL:https://www.aleph-akademie.de/event/session-mit-constantin-cranz/2026-04-02/
LOCATION:Zoom
ATTACH;FMTTYPE=image/jpeg:https://www.aleph-akademie.de/wp-content/uploads/constantin.jpg
ORGANIZER;CN="*Constantin Cranz":MAILTO:constantincranz@gmail.com
END:VEVENT
BEGIN:VEVENT
DTSTART;TZID=Europe/Berlin:20260402T093000
DTEND;TZID=Europe/Berlin:20260402T103000
DTSTAMP:20260420T161321
CREATED:20250923T211406Z
LAST-MODIFIED:20260331T055650Z
UID:10011485-1775122200-1775125800@www.aleph-akademie.de
SUMMARY:Session mit Andreas Pröhl
DESCRIPTION:
URL:https://www.aleph-akademie.de/event/session-mit-andreas-proehl/2026-04-02/
LOCATION:Zoom
ATTACH;FMTTYPE=image/jpeg:https://www.aleph-akademie.de/wp-content/uploads/Andreas_Portraits-2-800x800-1.jpg
ORGANIZER;CN="*Andreas Pr%C3%B6hl":MAILTO:info@andreasproehl.com
END:VEVENT
BEGIN:VEVENT
DTSTART;TZID=Europe/Berlin:20260402T081500
DTEND;TZID=Europe/Berlin:20260402T090000
DTSTAMP:20260420T161321
CREATED:20251031T113912Z
LAST-MODIFIED:20251031T114257Z
UID:10009567-1775117700-1775120400@www.aleph-akademie.de
SUMMARY:Lesen der Tageslektion
DESCRIPTION:
URL:https://www.aleph-akademie.de/event/lesen-der-tageslektion-2/2026-04-02/
LOCATION:Zoom
END:VEVENT
BEGIN:VEVENT
DTSTART;TZID=Europe/Berlin:20260401T203000
DTEND;TZID=Europe/Berlin:20260401T213000
DTSTAMP:20260420T161321
CREATED:20250924T095811Z
LAST-MODIFIED:20260331T064542Z
UID:10011528-1775075400-1775079000@www.aleph-akademie.de
SUMMARY:Session mit Hartmut Ringel
DESCRIPTION:
URL:https://www.aleph-akademie.de/event/session-mit-hartmut-ringel/2026-04-01/
LOCATION:Zoom
ATTACH;FMTTYPE=image/jpeg:https://www.aleph-akademie.de/wp-content/uploads/hartmut-foto.jpg
ORGANIZER;CN="*Hartmut Ringel":MAILTO:hartmut.ringel@gmail.com
END:VEVENT
BEGIN:VEVENT
DTSTART;TZID=Europe/Berlin:20260401T081500
DTEND;TZID=Europe/Berlin:20260401T090000
DTSTAMP:20260420T161321
CREATED:20251031T113912Z
LAST-MODIFIED:20251031T114257Z
UID:10009566-1775031300-1775034000@www.aleph-akademie.de
SUMMARY:Lesen der Tageslektion
DESCRIPTION:
URL:https://www.aleph-akademie.de/event/lesen-der-tageslektion-2/2026-04-01/
LOCATION:Zoom
END:VEVENT
BEGIN:VEVENT
DTSTART;TZID=Europe/Berlin:20260331T190000
DTEND;TZID=Europe/Berlin:20260331T200000
DTSTAMP:20260420T161321
CREATED:20251031T113943Z
LAST-MODIFIED:20251031T114219Z
UID:10009143-1774983600-1774987200@www.aleph-akademie.de
SUMMARY:Lesen der 50 Wiederholungslektionen
DESCRIPTION:
URL:https://www.aleph-akademie.de/event/lesen-der-50-wiederholungslektionen-2/2026-03-31/
LOCATION:Zoom
END:VEVENT
BEGIN:VEVENT
DTSTART;TZID=Europe/Berlin:20260331T081500
DTEND;TZID=Europe/Berlin:20260331T090000
DTSTAMP:20260420T161321
CREATED:20251031T113912Z
LAST-MODIFIED:20251031T114257Z
UID:10009565-1774944900-1774947600@www.aleph-akademie.de
SUMMARY:Lesen der Tageslektion
DESCRIPTION:
URL:https://www.aleph-akademie.de/event/lesen-der-tageslektion-2/2026-03-31/
LOCATION:Zoom
END:VEVENT
BEGIN:VEVENT
DTSTART;TZID=Europe/Berlin:20260330T081500
DTEND;TZID=Europe/Berlin:20260330T090000
DTSTAMP:20260420T161321
CREATED:20251031T113912Z
LAST-MODIFIED:20251031T114257Z
UID:10009564-1774858500-1774861200@www.aleph-akademie.de
SUMMARY:Lesen der Tageslektion
DESCRIPTION:
URL:https://www.aleph-akademie.de/event/lesen-der-tageslektion-2/2026-03-30/
LOCATION:Zoom
END:VEVENT
BEGIN:VEVENT
DTSTART;TZID=Europe/Berlin:20260329T081500
DTEND;TZID=Europe/Berlin:20260329T090000
DTSTAMP:20260420T161321
CREATED:20251031T113912Z
LAST-MODIFIED:20251031T114257Z
UID:10009563-1774772100-1774774800@www.aleph-akademie.de
SUMMARY:Lesen der Tageslektion
DESCRIPTION:
URL:https://www.aleph-akademie.de/event/lesen-der-tageslektion-2/2026-03-29/
LOCATION:Zoom
END:VEVENT
BEGIN:VEVENT
DTSTART;TZID=Europe/Berlin:20260328T081500
DTEND;TZID=Europe/Berlin:20260328T090000
DTSTAMP:20260420T161321
CREATED:20251031T113912Z
LAST-MODIFIED:20251031T114257Z
UID:10009562-1774685700-1774688400@www.aleph-akademie.de
SUMMARY:Lesen der Tageslektion
DESCRIPTION:
URL:https://www.aleph-akademie.de/event/lesen-der-tageslektion-2/2026-03-28/
LOCATION:Zoom
END:VEVENT
BEGIN:VEVENT
DTSTART;TZID=Europe/Berlin:20260327T081500
DTEND;TZID=Europe/Berlin:20260327T090000
DTSTAMP:20260420T161321
CREATED:20251031T113912Z
LAST-MODIFIED:20251031T114257Z
UID:10009561-1774599300-1774602000@www.aleph-akademie.de
SUMMARY:Lesen der Tageslektion
DESCRIPTION:
URL:https://www.aleph-akademie.de/event/lesen-der-tageslektion-2/2026-03-27/
LOCATION:Zoom
END:VEVENT
BEGIN:VEVENT
DTSTART;TZID=Europe/Berlin:20260326T081500
DTEND;TZID=Europe/Berlin:20260326T090000
DTSTAMP:20260420T161321
CREATED:20251031T113912Z
LAST-MODIFIED:20251031T114257Z
UID:10009560-1774512900-1774515600@www.aleph-akademie.de
SUMMARY:Lesen der Tageslektion
DESCRIPTION:
URL:https://www.aleph-akademie.de/event/lesen-der-tageslektion-2/2026-03-26/
LOCATION:Zoom
END:VEVENT
BEGIN:VEVENT
DTSTART;TZID=Europe/Berlin:20260325T081500
DTEND;TZID=Europe/Berlin:20260325T090000
DTSTAMP:20260420T161321
CREATED:20251031T113912Z
LAST-MODIFIED:20251031T114257Z
UID:10009559-1774426500-1774429200@www.aleph-akademie.de
SUMMARY:Lesen der Tageslektion
DESCRIPTION:
URL:https://www.aleph-akademie.de/event/lesen-der-tageslektion-2/2026-03-25/
LOCATION:Zoom
END:VEVENT
BEGIN:VEVENT
DTSTART;TZID=Europe/Berlin:20260324T190000
DTEND;TZID=Europe/Berlin:20260324T200000
DTSTAMP:20260420T161321
CREATED:20251031T113943Z
LAST-MODIFIED:20251031T114219Z
UID:10009142-1774378800-1774382400@www.aleph-akademie.de
SUMMARY:Lesen der 50 Wiederholungslektionen
DESCRIPTION:
URL:https://www.aleph-akademie.de/event/lesen-der-50-wiederholungslektionen-2/2026-03-24/
LOCATION:Zoom
END:VEVENT
BEGIN:VEVENT
DTSTART;TZID=Europe/Berlin:20260324T081500
DTEND;TZID=Europe/Berlin:20260324T090000
DTSTAMP:20260420T161321
CREATED:20251031T113912Z
LAST-MODIFIED:20251031T114257Z
UID:10009558-1774340100-1774342800@www.aleph-akademie.de
SUMMARY:Lesen der Tageslektion
DESCRIPTION:
URL:https://www.aleph-akademie.de/event/lesen-der-tageslektion-2/2026-03-24/
LOCATION:Zoom
END:VEVENT
BEGIN:VEVENT
DTSTART;TZID=Europe/Berlin:20260323T081500
DTEND;TZID=Europe/Berlin:20260323T090000
DTSTAMP:20260420T161321
CREATED:20251031T113912Z
LAST-MODIFIED:20251031T114257Z
UID:10009557-1774253700-1774256400@www.aleph-akademie.de
SUMMARY:Lesen der Tageslektion
DESCRIPTION:
URL:https://www.aleph-akademie.de/event/lesen-der-tageslektion-2/2026-03-23/
LOCATION:Zoom
END:VEVENT
BEGIN:VEVENT
DTSTART;TZID=Europe/Berlin:20260322T081500
DTEND;TZID=Europe/Berlin:20260322T090000
DTSTAMP:20260420T161321
CREATED:20251031T113912Z
LAST-MODIFIED:20251031T114257Z
UID:10009556-1774167300-1774170000@www.aleph-akademie.de
SUMMARY:Lesen der Tageslektion
DESCRIPTION:
URL:https://www.aleph-akademie.de/event/lesen-der-tageslektion-2/2026-03-22/
LOCATION:Zoom
END:VEVENT
BEGIN:VEVENT
DTSTART;TZID=Europe/Berlin:20260321T081500
DTEND;TZID=Europe/Berlin:20260321T090000
DTSTAMP:20260420T161321
CREATED:20251031T113912Z
LAST-MODIFIED:20251031T114257Z
UID:10009555-1774080900-1774083600@www.aleph-akademie.de
SUMMARY:Lesen der Tageslektion
DESCRIPTION:
URL:https://www.aleph-akademie.de/event/lesen-der-tageslektion-2/2026-03-21/
LOCATION:Zoom
END:VEVENT
BEGIN:VEVENT
DTSTART;TZID=Europe/Berlin:20260320T081500
DTEND;TZID=Europe/Berlin:20260320T090000
DTSTAMP:20260420T161321
CREATED:20251031T113912Z
LAST-MODIFIED:20251031T114257Z
UID:10009554-1773994500-1773997200@www.aleph-akademie.de
SUMMARY:Lesen der Tageslektion
DESCRIPTION:
URL:https://www.aleph-akademie.de/event/lesen-der-tageslektion-2/2026-03-20/
LOCATION:Zoom
END:VEVENT
BEGIN:VEVENT
DTSTART;TZID=Europe/Berlin:20260319T203000
DTEND;TZID=Europe/Berlin:20260319T213000
DTSTAMP:20260420T161321
CREATED:20250924T100857Z
LAST-MODIFIED:20260331T063134Z
UID:10011524-1773952200-1773955800@www.aleph-akademie.de
SUMMARY:Session mit kironJ
DESCRIPTION:
URL:https://www.aleph-akademie.de/event/session-mit-kironj/2026-03-19/
LOCATION:Zoom
ATTACH;FMTTYPE=image/jpeg:https://www.aleph-akademie.de/wp-content/uploads/kironj_003-scaled.jpg
END:VEVENT
BEGIN:VEVENT
DTSTART;TZID=Europe/Berlin:20260319T081500
DTEND;TZID=Europe/Berlin:20260319T090000
DTSTAMP:20260420T161321
CREATED:20251031T113912Z
LAST-MODIFIED:20251031T114257Z
UID:10009553-1773908100-1773910800@www.aleph-akademie.de
SUMMARY:Lesen der Tageslektion
DESCRIPTION:
URL:https://www.aleph-akademie.de/event/lesen-der-tageslektion-2/2026-03-19/
LOCATION:Zoom
END:VEVENT
BEGIN:VEVENT
DTSTART;TZID=Europe/Berlin:20260318T081500
DTEND;TZID=Europe/Berlin:20260318T090000
DTSTAMP:20260420T161321
CREATED:20251031T113912Z
LAST-MODIFIED:20251031T114257Z
UID:10009552-1773821700-1773824400@www.aleph-akademie.de
SUMMARY:Lesen der Tageslektion
DESCRIPTION:
URL:https://www.aleph-akademie.de/event/lesen-der-tageslektion-2/2026-03-18/
LOCATION:Zoom
END:VEVENT
BEGIN:VEVENT
DTSTART;TZID=Europe/Berlin:20260317T190000
DTEND;TZID=Europe/Berlin:20260317T200000
DTSTAMP:20260420T161321
CREATED:20251031T113943Z
LAST-MODIFIED:20251031T114219Z
UID:10009141-1773774000-1773777600@www.aleph-akademie.de
SUMMARY:Lesen der 50 Wiederholungslektionen
DESCRIPTION:
URL:https://www.aleph-akademie.de/event/lesen-der-50-wiederholungslektionen-2/2026-03-17/
LOCATION:Zoom
END:VEVENT
BEGIN:VEVENT
DTSTART;TZID=Europe/Berlin:20260317T081500
DTEND;TZID=Europe/Berlin:20260317T090000
DTSTAMP:20260420T161321
CREATED:20251031T113912Z
LAST-MODIFIED:20251031T114257Z
UID:10009551-1773735300-1773738000@www.aleph-akademie.de
SUMMARY:Lesen der Tageslektion
DESCRIPTION:
URL:https://www.aleph-akademie.de/event/lesen-der-tageslektion-2/2026-03-17/
LOCATION:Zoom
END:VEVENT
END:VCALENDAR